BEGIN:VCALENDAR
VERSION:2.0
PRODID:-//207.180.228.168//NONSGML kigkonsult.se iCalcreator 2.26.9//
CALSCALE:GREGORIAN
METHOD:PUBLISH
X-WR-CALNAME:FIDE Arbiters&#039\; Commission
X-WR-CALDESC:
X-FROM-URL:https://arbiters.fide.com
X-WR-TIMEZONE:Europe/Paris
BEGIN:VTIMEZONE
TZID:Europe/Paris
X-LIC-LOCATION:Europe/Paris
BEGIN:STANDARD
DTSTART:20251026T030000
TZOFFSETFROM:+0200
TZOFFSETTO:+0100
RDATE:20261025T030000
TZNAME:CET
END:STANDARD
BEGIN:DAYLIGHT
DTSTART:20260329T020000
TZOFFSETFROM:+0100
TZOFFSETTO:+0200
RDATE:20270328T020000
TZNAME:CEST
END:DAYLIGHT
END:VTIMEZONE
BEGIN:VEVENT
UID:ai1ec-8377@arbiters.fide.com
DTSTAMP:20260420T063255Z
CATEGORIES;LANGUAGE=en-US:FA Seminar\,FA Seminar ENG\,Training
CONTACT:Jamie Kenmure\; +61 419 980 696 (WhatsApp only)\; kenmure2018@gmail
 .com
DESCRIPTION:The 137th Internet-based FIDE Arbiters’ Seminar is going to be 
 organized from 27/07/2023 to 30/07/2023 by the Guam Chess Federation\, und
 er the auspices of FIDE. \nThe Lecturer will be IA Jamie Kenmure (AUS)\, F
 IDE Lecturer\, and Assistant Lecturer will IA Chan\, Kwai Keong (HKG).\nTh
 e Technical Organizer will be IA Hashemi\, Amir Erfan (IRI).\nThe language
  of the Seminar will be English.\nThe Seminar will give norms and titles o
 f FIDE Arbiter\, according to the Regulations for the titles of Arbiters.
 \nSchedule:      (ALL TIMES ARE GUAM TIME GMT +10)\nThursday 27th of July
 \n17:00 – 21:00 Laws of Chess (including Rapid\, Blitz)\nFriday 28th of Ju
 ly\n17:00 – 19:00 Swiss system and pairing rules\n19:00 – 21:00 System of 
 Games\, tie breaks\nSaturday 29th of July\n9:00-11:00 Regulations for the 
 rating and the over‐the‐board titles\n11:00 – 13:00 Tournament Rules\n13:3
 0 – 15:30 Regulations for the titles of the Arbiters\n15:30 – 17:30 Anti‐c
 heating guidelines for Arbiters\n17:30 – 18:00 Any questions about any top
 ics at all they may have\nSunday 30th of July\n10:00-14:00 Examination
DTSTART;VALUE=DATE:20230727
DTEND;VALUE=DATE:20230731
LOCATION:online
SEQUENCE:0
SUMMARY:137th Internet Based FIDE Arbiters’ Seminar (Guam Chess Federation)
URL:https://arbiters.fide.com/news/event/137th-internet-based-fide-arbiters
 -seminar-guam-chess-federation
X-COST-TYPE:free
X-ALT-DESC;FMTTYPE=text/html:<!DOCTYPE HTML PUBLIC '-//W3C//DTD HTML 3.2//E
 N'>\\n<HTML>\\n<HEAD>\\n<TITLE></TITLE>\\n</HEAD>\\n<BODY><p>The 137th Int
 ernet-based FIDE Arbiters’ Seminar is going to be organized from 27/07/202
 3 to 30/07/2023 by the Guam Chess Federation\,<span class='fontstyle0'> un
 der the auspices of FIDE. </span></p>\n<p>The Lecturer will be IA Jamie Ke
 nmure (AUS)\, FIDE Lecturer\, and Assistant Lecturer will IA Chan\, Kwai K
 eong (HKG).</p>\n<p>The Technical Organizer will be IA Hashemi\, Amir Erfa
 n (IRI).</p>\n<p>The language of the Seminar will be English.</p>\n<p>The 
 Seminar will give norms and titles of FIDE Arbiter\, according to the Regu
 lations for the titles of Arbiters.</p>\n<p><strong>Schedule:      (ALL TI
 MES ARE GUAM TIME GMT +10)</strong></p>\n<p><strong>Thursday 27<sup>th</su
 p> of July</strong><strong><br />\n</strong>17:00 – 21:00 Laws of Chess (i
 ncluding Rapid\, Blitz)</p>\n<p><strong>Friday 28<sup>th</sup> of July</st
 rong><br />\n17:00 – 19:00 Swiss system and pairing rules<br />\n19:00 – 2
 1:00 System of Games\, tie breaks</p>\n<p><strong>Saturday 29<sup>th</sup>
  of July</strong><br />\n9:00-11:00 Regulations for the rating and the ove
 r‐the‐board titles<br />\n11:00 – 13:00 Tournament Rules<br />\n13:30 – 15
 :30 Regulations for the titles of the Arbiters<br />\n15:30 – 17:30 Anti‐c
 heating guidelines for Arbiters</p>\n<p>17:30 – 18:00 Any questions about 
 any topics at all they may have</p>\n<p><strong>Sunday 30<sup>th</sup> of 
 July</strong><br />\n10:00-14:00 Examination</p>\n<div></div>\n<div></div>
 \n<div></div>\n</BODY></HTML>
X-TAGS;LANGUAGE=en-US:English
X-COST:$100 USD for Guam participants\, $200 USD for all other participants
END:VEVENT
END:VCALENDAR
